BEGIN:VCALENDAR
VERSION:2.0
PRODID:-//Cochlea Implantat Verband Baden-Württemberg e.V. - ECPv6.15.20//NONSGML v1.0//EN
CALSCALE:GREGORIAN
METHOD:PUBLISH
X-ORIGINAL-URL:https://civ-bawue.de
X-WR-CALDESC:Veranstaltungen für Cochlea Implantat Verband Baden-Württemberg e.V.
REFRESH-INTERVAL;VALUE=DURATION:PT1H
X-Robots-Tag:noindex
X-PUBLISHED-TTL:PT1H
BEGIN:VTIMEZONE
TZID:Europe/Berlin
BEGIN:DAYLIGHT
TZOFFSETFROM:+0100
TZOFFSETTO:+0200
TZNAME:CEST
DTSTART:20230326T010000
END:DAYLIGHT
BEGIN:STANDARD
TZOFFSETFROM:+0200
TZOFFSETTO:+0100
TZNAME:CET
DTSTART:20231029T010000
END:STANDARD
BEGIN:DAYLIGHT
TZOFFSETFROM:+0100
TZOFFSETTO:+0200
TZNAME:CEST
DTSTART:20240331T010000
END:DAYLIGHT
BEGIN:STANDARD
TZOFFSETFROM:+0200
TZOFFSETTO:+0100
TZNAME:CET
DTSTART:20241027T010000
END:STANDARD
BEGIN:DAYLIGHT
TZOFFSETFROM:+0100
TZOFFSETTO:+0200
TZNAME:CEST
DTSTART:20250330T010000
END:DAYLIGHT
BEGIN:STANDARD
TZOFFSETFROM:+0200
TZOFFSETTO:+0100
TZNAME:CET
DTSTART:20251026T010000
END:STANDARD
END:VTIMEZONE
BEGIN:VEVENT
DTSTART;VALUE=DATE:20241018
DTEND;VALUE=DATE:20241021
DTSTAMP:20260425T045833
CREATED:20221024T122843Z
LAST-MODIFIED:20240820T063551Z
UID:7603-1729209600-1729468799@civ-bawue.de
SUMMARY:Herbstseminar für Mitglieder 2024
DESCRIPTION:Ich spreche mit dir – Du sprichst mit mir\nWarum beide Seiten gleich wichtig sind \nmit Peter Dieler \nInfos und Anmeldung hier… \nHerbstseminar 2024
URL:https://civ-bawue.de/termin/herbstseminar-fuer-mitglieder-2024/
LOCATION:KVJS-Tagungszentrum Gültstein\, Schloßstraße 31\, Herrenberg-Gültstein\, 71083
CATEGORIES:CIV-BaWue,Seminare
ATTACH;FMTTYPE=image/png:https://civ-bawue.de/wp-content/uploads/2016/11/civ-bawue-logo-l-95.png
END:VEVENT
END:VCALENDAR