BEGIN:VCALENDAR
VERSION:2.0
PRODID:-//Cochlea Implantat Verband Baden-Württemberg e.V. - ECPv6.15.20//NONSGML v1.0//EN
CALSCALE:GREGORIAN
METHOD:PUBLISH
X-WR-CALNAME:Cochlea Implantat Verband Baden-Württemberg e.V.
X-ORIGINAL-URL:https://civ-bawue.de
X-WR-CALDESC:Veranstaltungen für Cochlea Implantat Verband Baden-Württemberg e.V.
REFRESH-INTERVAL;VALUE=DURATION:PT1H
X-Robots-Tag:noindex
X-PUBLISHED-TTL:PT1H
BEGIN:VTIMEZONE
TZID:Europe/Berlin
BEGIN:DAYLIGHT
TZOFFSETFROM:+0100
TZOFFSETTO:+0200
TZNAME:CEST
DTSTART:20240331T010000
END:DAYLIGHT
BEGIN:STANDARD
TZOFFSETFROM:+0200
TZOFFSETTO:+0100
TZNAME:CET
DTSTART:20241027T010000
END:STANDARD
BEGIN:DAYLIGHT
TZOFFSETFROM:+0100
TZOFFSETTO:+0200
TZNAME:CEST
DTSTART:20250330T010000
END:DAYLIGHT
BEGIN:STANDARD
TZOFFSETFROM:+0200
TZOFFSETTO:+0100
TZNAME:CET
DTSTART:20251026T010000
END:STANDARD
BEGIN:DAYLIGHT
TZOFFSETFROM:+0100
TZOFFSETTO:+0200
TZNAME:CEST
DTSTART:20260329T010000
END:DAYLIGHT
BEGIN:STANDARD
TZOFFSETFROM:+0200
TZOFFSETTO:+0100
TZNAME:CET
DTSTART:20261025T010000
END:STANDARD
END:VTIMEZONE
BEGIN:VEVENT
DTSTART;VALUE=DATE:20250404
DTEND;VALUE=DATE:20250407
DTSTAMP:20260421T161320
CREATED:20240802T103441Z
LAST-MODIFIED:20250311T165126Z
UID:9342-1743724800-1743983999@civ-bawue.de
SUMMARY:Selbstverteidigung Wochenende in Gültstein
DESCRIPTION:Wochenendseminar in Gültstein\n\nThema: Schlagfertigkeit\, Selbstbehauptung und Selbstverteidigung\nAnmeldung ab sofort möglich! Zum Anmeldeformular geht es hier… \n\n \n\n 
URL:https://civ-bawue.de/termin/wochenende-junge-selbsthilfe/
LOCATION:KVJS-Tagungszentrum Gültstein\, Schloßstraße 31\, Herrenberg-Gültstein\, 71083
CATEGORIES:CIV-BaWue,DOA BaWü,Seminare
ATTACH;FMTTYPE=image/png:https://civ-bawue.de/wp-content/uploads/2024/12/image-4.png
END:VEVENT
END:VCALENDAR