BEGIN:VCALENDAR
VERSION:2.0
PRODID:-//Cochlea Implantat Verband Baden-Württemberg e.V. - ECPv6.15.20//NONSGML v1.0//EN
CALSCALE:GREGORIAN
METHOD:PUBLISH
X-WR-CALNAME:Cochlea Implantat Verband Baden-Württemberg e.V.
X-ORIGINAL-URL:https://civ-bawue.de
X-WR-CALDESC:Veranstaltungen für Cochlea Implantat Verband Baden-Württemberg e.V.
REFRESH-INTERVAL;VALUE=DURATION:PT1H
X-Robots-Tag:noindex
X-PUBLISHED-TTL:PT1H
BEGIN:VTIMEZONE
TZID:Europe/Berlin
BEGIN:DAYLIGHT
TZOFFSETFROM:+0100
TZOFFSETTO:+0200
TZNAME:CEST
DTSTART:20220327T010000
END:DAYLIGHT
BEGIN:STANDARD
TZOFFSETFROM:+0200
TZOFFSETTO:+0100
TZNAME:CET
DTSTART:20221030T010000
END:STANDARD
BEGIN:DAYLIGHT
TZOFFSETFROM:+0100
TZOFFSETTO:+0200
TZNAME:CEST
DTSTART:20230326T010000
END:DAYLIGHT
BEGIN:STANDARD
TZOFFSETFROM:+0200
TZOFFSETTO:+0100
TZNAME:CET
DTSTART:20231029T010000
END:STANDARD
BEGIN:DAYLIGHT
TZOFFSETFROM:+0100
TZOFFSETTO:+0200
TZNAME:CEST
DTSTART:20240331T010000
END:DAYLIGHT
BEGIN:STANDARD
TZOFFSETFROM:+0200
TZOFFSETTO:+0100
TZNAME:CET
DTSTART:20241027T010000
END:STANDARD
END:VTIMEZONE
BEGIN:VEVENT
DTSTART;VALUE=DATE:20230331
DTEND;VALUE=DATE:20230403
DTSTAMP:20260422T152514
CREATED:20221024T120655Z
LAST-MODIFIED:20230221T154557Z
UID:7579-1680220800-1680479999@civ-bawue.de
SUMMARY:Frühjahrsseminar 2023 - Klangschalen
DESCRIPTION:Die Reise des Klangs – ein Kreislauf\, der niemals ruht \nKlangschalen-Seminar mit Karin Zeh. \nAchtung: Das Seminar ist ausgebucht! Bei einer Anmeldung setzen wir Sie auf die Warteliste! \nWeitere Infos und Online-Anmeldung finden Sie hier… \n  \n 
URL:https://civ-bawue.de/termin/fru%cc%88hjahrsseminar-klangschalen-2/
LOCATION:KVJS-Tagungszentrum Gültstein\, Schloßstraße 31\, Herrenberg-Gültstein\, 71083
CATEGORIES:CIV-BaWue,Seminare
ATTACH;FMTTYPE=image/png:https://civ-bawue.de/wp-content/uploads/2022/01/klangschalen_2022.png
END:VEVENT
END:VCALENDAR