BEGIN:VCALENDAR
VERSION:2.0
PRODID:-//Cochlea Implantat Verband Baden-Württemberg e.V. - ECPv6.15.20//NONSGML v1.0//EN
CALSCALE:GREGORIAN
METHOD:PUBLISH
X-WR-CALNAME:Cochlea Implantat Verband Baden-Württemberg e.V.
X-ORIGINAL-URL:https://civ-bawue.de
X-WR-CALDESC:Veranstaltungen für Cochlea Implantat Verband Baden-Württemberg e.V.
REFRESH-INTERVAL;VALUE=DURATION:PT1H
X-Robots-Tag:noindex
X-PUBLISHED-TTL:PT1H
BEGIN:VTIMEZONE
TZID:Europe/Berlin
BEGIN:DAYLIGHT
TZOFFSETFROM:+0100
TZOFFSETTO:+0200
TZNAME:CEST
DTSTART:20230326T010000
END:DAYLIGHT
BEGIN:STANDARD
TZOFFSETFROM:+0200
TZOFFSETTO:+0100
TZNAME:CET
DTSTART:20231029T010000
END:STANDARD
BEGIN:DAYLIGHT
TZOFFSETFROM:+0100
TZOFFSETTO:+0200
TZNAME:CEST
DTSTART:20240331T010000
END:DAYLIGHT
BEGIN:STANDARD
TZOFFSETFROM:+0200
TZOFFSETTO:+0100
TZNAME:CET
DTSTART:20241027T010000
END:STANDARD
BEGIN:DAYLIGHT
TZOFFSETFROM:+0100
TZOFFSETTO:+0200
TZNAME:CEST
DTSTART:20250330T010000
END:DAYLIGHT
BEGIN:STANDARD
TZOFFSETFROM:+0200
TZOFFSETTO:+0100
TZNAME:CET
DTSTART:20251026T010000
END:STANDARD
END:VTIMEZONE
BEGIN:VEVENT
DTSTART;VALUE=DATE:20240705
DTEND;VALUE=DATE:20240708
DTSTAMP:20260424T181534
CREATED:20221024T122733Z
LAST-MODIFIED:20240510T092444Z
UID:7599-1720137600-1720396799@civ-bawue.de
SUMMARY:Engagiertenseminar 2024
DESCRIPTION:für Engagierte des CIV-BaWü \nReferent: Mathias Weihbrecht. \nThema: Wie können wir Betroffene\, Angehörige und Interessenten auf die Kommunikationsstraße bringen?
URL:https://civ-bawue.de/termin/engagiertenseminar-2024/
LOCATION:KVJS-Tagungszentrum Gültstein\, Schloßstraße 31\, Herrenberg-Gültstein\, 71083
CATEGORIES:CIV-BaWue,Interner Termin,Seminare
ATTACH;FMTTYPE=image/png:https://civ-bawue.de/wp-content/uploads/2016/11/civ-bawue-logo-l-95.png
END:VEVENT
BEGIN:VEVENT
DTSTART;VALUE=DATE:20240705
DTEND;VALUE=DATE:20240708
DTSTAMP:20260424T181534
CREATED:20221024T122807Z
LAST-MODIFIED:20240517T120310Z
UID:7601-1720137600-1720396799@civ-bawue.de
SUMMARY:Technikseminar mit Karin Zeh 2024
DESCRIPTION:Technikseminar in Herrenberg-Gültstein \nDas Seminar ist bereits AUSGEBUCHT! \nTechnikseminar mit Karin Zeh – Herbst 2024
URL:https://civ-bawue.de/termin/technikseminar-mit-karin-zeh-2024/
LOCATION:KVJS-Tagungszentrum Gültstein\, Schloßstraße 31\, Herrenberg-Gültstein\, 71083
CATEGORIES:CIV-BaWue,Seminare
END:VEVENT
END:VCALENDAR